BEGIN:VCALENDAR
VERSION:2.0
PRODID:-//UCRRA - ECPv6.15.20//NONSGML v1.0//EN
CALSCALE:GREGORIAN
METHOD:PUBLISH
X-WR-CALNAME:UCRRA
X-ORIGINAL-URL:https://ucrra.org
X-WR-CALDESC:Events for UCRRA
REFRESH-INTERVAL;VALUE=DURATION:PT1H
X-Robots-Tag:noindex
X-PUBLISHED-TTL:PT1H
BEGIN:VTIMEZONE
TZID:America/New_York
BEGIN:DAYLIGHT
TZOFFSETFROM:-0500
TZOFFSETTO:-0400
TZNAME:EDT
DTSTART:20190310T070000
END:DAYLIGHT
BEGIN:STANDARD
TZOFFSETFROM:-0400
TZOFFSETTO:-0500
TZNAME:EST
DTSTART:20191103T060000
END:STANDARD
BEGIN:DAYLIGHT
TZOFFSETFROM:-0500
TZOFFSETTO:-0400
TZNAME:EDT
DTSTART:20200308T070000
END:DAYLIGHT
BEGIN:STANDARD
TZOFFSETFROM:-0400
TZOFFSETTO:-0500
TZNAME:EST
DTSTART:20201101T060000
END:STANDARD
BEGIN:DAYLIGHT
TZOFFSETFROM:-0500
TZOFFSETTO:-0400
TZNAME:EDT
DTSTART:20210314T070000
END:DAYLIGHT
BEGIN:STANDARD
TZOFFSETFROM:-0400
TZOFFSETTO:-0500
TZNAME:EST
DTSTART:20211107T060000
END:STANDARD
BEGIN:DAYLIGHT
TZOFFSETFROM:-0500
TZOFFSETTO:-0400
TZNAME:EDT
DTSTART:20220313T070000
END:DAYLIGHT
BEGIN:STANDARD
TZOFFSETFROM:-0400
TZOFFSETTO:-0500
TZNAME:EST
DTSTART:20221106T060000
END:STANDARD
BEGIN:DAYLIGHT
TZOFFSETFROM:-0500
TZOFFSETTO:-0400
TZNAME:EDT
DTSTART:20230312T070000
END:DAYLIGHT
BEGIN:STANDARD
TZOFFSETFROM:-0400
TZOFFSETTO:-0500
TZNAME:EST
DTSTART:20231105T060000
END:STANDARD
BEGIN:DAYLIGHT
TZOFFSETFROM:-0500
TZOFFSETTO:-0400
TZNAME:EDT
DTSTART:20240310T070000
END:DAYLIGHT
BEGIN:STANDARD
TZOFFSETFROM:-0400
TZOFFSETTO:-0500
TZNAME:EST
DTSTART:20241103T060000
END:STANDARD
END:VTIMEZONE
BEGIN:VEVENT
DTSTART;TZID=America/New_York:20230920T130000
DTEND;TZID=America/New_York:20230920T143000
DTSTAMP:20260424T031125
CREATED:20230628T163040Z
LAST-MODIFIED:20230628T163416Z
UID:7995-1695214800-1695220200@ucrra.org
SUMMARY:Recycle Right! (Pine Hill)
DESCRIPTION:Recycle Right!\n \nWednesday September 20th 2023 \n1:00-2:30 PM\nPine Hill Community Center\n287 Main St\, Pine Hill\, NY 12465\nWhy can’t ALL plastics be recycled? What does the chasing arrows symbol really mean? Are pizza boxes in or out? Should you recycle that coffee cup? What about broken dishes? Putting unaccepted items in the recycling bin can damage equipment\, harm workers\, and reduce the value and environmental benefits of recycling. \nIn this class\, you will learn: How does recycling ‘work’ in Ulster County? What are the benefits of recycling correctly? What makes something ‘recyclable’ or not? What is ‘wishcycling’ and how does it affect the recycling process? \nThis class will be offered in person at the Pine Hill Community Center\, hosted by member(s) of the Ulster County Resource Recovery Agency’s Recycling Outreach Team\, in collaboration with the Town of Shandaken’s Conservation Advisory Council. Please pre-register for this class (walk-ins are also welcome).  \nSign Up Now!Accessibility:This class will take place indoors on the ground floor of the Community Center.  The facility is wheelchair accessible. Reserved seating is available by request; please contact Angelina Brandt at APEO@UCRRA.ORG. Please note: the use of face masks is optional at the Community Center. \nWe strive to offer equal program opportunities. Educational resources in Spanish are available by request. If you require any special accommodations or have questions about this program\, please contact Angelina Brandt\, Director of Sustainability\, at APEO@UCRRA.ORG  or 845-336-3336. \nShare This Story\, Choose Your Platform!
URL:https://ucrra.org/event/recycle-right-pine-hill/
LOCATION:Pine Hill Community Center\, 287 Main Street\, Pine Hill\, NY\, 12467
CATEGORIES:Recycle,Reduce,Reuse,UCRRA Classes
ATTACH;FMTTYPE=image/jpeg:https://ucrra.org/wp-content/uploads/2022/07/istockphoto-1205889346-170667a.jpg
ORGANIZER;CN="UCRRA":MAILTO:apeo@ucrra.org
END:VEVENT
BEGIN:VEVENT
DTSTART;TZID=America/New_York:20230814T120000
DTEND;TZID=America/New_York:20230814T140000
DTSTAMP:20260424T031125
CREATED:20230711T142952Z
LAST-MODIFIED:20230711T142952Z
UID:8035-1692014400-1692021600@ucrra.org
SUMMARY:MRDC Informational Meeting
DESCRIPTION:MRDC Informational Recycling Meeting\nMonday August 14th 2023\n12:00 PM – 2:00 PM\nUCRRA Administrative Office\n999 Flatbush Road Kingston NY\n \nPlease note: this meeting is for Municipal Recycling Drop-Off Center managers and operators\, and is closed to the general public. Hosted by the UCRRA Director of Sustainability and Recycling Educator\,  these meetings are helpful to better understand recycling guidelines and UCRRA Recycling Outreach Team Services. \nThis meeting will feature guest speaker Lee Anne Albritton from Ulster County Habitat for Humanity\, who will share a unique opportunity for local transfer stations to create and offer reuse programs for their residents\, helping to achieve your Town’s sustainability goals and diverting recoverable materials from the waste stream\, in partnership with Ulster County Habitat for Humanity. \nPlease register by Monday August 7th. Please note: Participants must pre-register as seating is limited. \nSign Up for the MRDC meeting!Accessibility: This meeting will be held indoors at the UCRRA Main Office. Accessible parking is available approximately 20 feet from the main entrance (please note there are no automatic doors at this building). Accessible\, gender neutral bathrooms are available. Use of face masks are not required indoors\, but may be encouraged. We strive to offer equal program opportunities to the best of our capabilities. Please contact Angelina Brandt\, Director of Sustainability\, at APEO@UCRRA.ORG or 845-336-3336 to discuss any accommodations.
URL:https://ucrra.org/event/mrdc-informational-meeting-2023/
LOCATION:UCRRA\, 999 Flatbush Road\, Kingston\, NY\, 12401\, United States
CATEGORIES:Recycle,Reduce,Reuse,UCRRA Classes
ATTACH;FMTTYPE=image/jpeg:https://ucrra.org/wp-content/uploads/2023/07/sigmund-aI4RJ-Mw4I-unsplash-scaled.jpg
ORGANIZER;CN="UCRRA":MAILTO:apeo@ucrra.org
END:VEVENT
BEGIN:VEVENT
DTSTART;TZID=America/New_York:20230801T160000
DTEND;TZID=America/New_York:20230801T220000
DTSTAMP:20260424T031125
CREATED:20230726T144006Z
LAST-MODIFIED:20230726T144449Z
UID:8096-1690905600-1690927200@ucrra.org
SUMMARY:UCRRA at the Ulster County Fair
DESCRIPTION:UCRRA at the Ulster County Fair!\nTuesday August 1st – Sunday August 6th 2023 \nOutreach Booth Located in “Climate Row”\n*Booth open following all Fair Schedule Hours*\nUlster County Fairgrounds\nUlster County Agricultural Society\, Inc.\n249 Libertyville Road\nNew Paltz\, NY 12561\n\nUCRRA will be hosting an outreach booth in “Climate Row” which is a vendor section of the Fair (underneath the big white tents) where Ulster County Climate Smart Committee and other local environmental nonprofits and community groups will be showcasing their work and resources about climate\, environment\, energy use\, and more. \nAt the UCRRA booth\, visitors can play a Waste & Recycling Trivia Game! Spin the Trivia wheel\, answer a recycling-related question\, and win a free reusable prize while supplies last.  Children can make a button that shares an environmental message! Ulster County residents can be entered for a chance to win a compost tumbler and other prizes! There is no fee to enter the raffle – it’s free! This offer is valid for Ulster County residents only. Our staff and volunteers will be available to answer recycling and composting questions\, stop on by and learn more about local waste and recycling! \nAdmission to the Fair is required to access the Climate Row vendors. Learn more here.  \nShare This Story\, Choose Your Platform!
URL:https://ucrra.org/event/ulster-county-fair/
LOCATION:NY
CATEGORIES:Recycle,Reduce,Reuse,UCRRA Classes
ATTACH;FMTTYPE=image/jpeg:https://ucrra.org/wp-content/uploads/2023/07/2023-Repair-Recycling-Habits-1.jpg
ORGANIZER;CN="UCRRA":MAILTO:apeo@ucrra.org
END:VEVENT
BEGIN:VEVENT
DTSTART;TZID=America/New_York:20230512T160000
DTEND;TZID=America/New_York:20230512T171500
DTSTAMP:20260424T031125
CREATED:20221103T191044Z
LAST-MODIFIED:20221103T191044Z
UID:6544-1683907200-1683911700@ucrra.org
SUMMARY:Recycling Bingo for Kids! (Woodstock Library)
DESCRIPTION:Recycling Bingo for Kids!\nFriday\, May 12th 2023\n4:00 PM – 5:15 PM\nWoodstock Public Library DistrictHow does recycling paper\, plastic\, and metal benefit our environment? Why is it important to recycle things correctly? How does recycling benefit our oceans? Join our recycling educators in a game of bingo where each bingo call teaches a fun\, smart fact! \nThis class will be hosted at the Woodstock Public Library and facilitated by the UCRRA Recycling Outreach Team. Participants will learn about protecting our planet\, the types of recyclable items\, and other interesting facts about sustainability! Prizes will be given to all participants\, with special prizes given to the top winners! This FREE workshop is suitable for children ages 7 and up\, and parental supervision is advised. \nTO SIGN UP: Class size is limited. Email Hollie@woodstock.org to sign up or click the button below. \nAccessibility: A wheelchair accessible ramp is available to enter the main library. Accessible parking is available to the side of the building\, and additional parking spots are available across the street. This program will take place upstairs\, where there is no elevator or lift. Masks and social distancing are not required at this time\, but they are recommended. \nWe strive to offer equal program opportunities. Educational resources in Spanish are available by request. If you require any special accommodations or have questions about this program\, please contact Tanesia White\, Recycling Educator\, at TWHI@UCRRA.ORG or 845-336-3336. \nSign Up for this Class! Share This Event!
URL:https://ucrra.org/event/recycling-bingo-for-kids-woodstock-library/
LOCATION:Woodstock Public Library District\, 10 Dixon Ave\, Woodstock\, NY\, 12498\, United States
CATEGORIES:Recycle,Reduce,UCRRA Classes,Youth Programs
ATTACH;FMTTYPE=image/jpeg:https://ucrra.org/wp-content/uploads/2022/11/Why-recycle.jpg
ORGANIZER;CN="UCRRA":MAILTO:apeo@ucrra.org
END:VEVENT
BEGIN:VEVENT
DTSTART;TZID=America/New_York:20230221T180000
DTEND;TZID=America/New_York:20230221T193000
DTSTAMP:20260424T031125
CREATED:20221220T145255Z
LAST-MODIFIED:20230105T191140Z
UID:6744-1677002400-1677007800@ucrra.org
SUMMARY:Recycle Right! (Kingston Library)
DESCRIPTION:Kingston Library and UCRRA present:\n“Recycle Right”\n \nTuesday\, February 21st\, 2023\n6:00 PM – 7:30 PM\nKingston Public Library\n55 Franklin St\, Kingston\, NY\n\n\n \nWhy can’t ALL plastics be recycled? What does the chasing arrows symbol really mean? Are pizza boxes in or out? Should you recycle that coffee cup? What about broken dishes? Putting unaccepted items in the recycling bin can damage equipment\, harm workers\, and reduce the value and environmental benefits of recycling. \n\n\n In this class\, you will learn: How does recycling ‘work’ in Ulster County? What are the benefits of recycling correctly? What makes something ‘recyclable’ or not?  What is ‘wishcycling’ and how does it affect the recycling process?\n \nThis class will be offered in person at the City of Kingston Public Library\, with host Angelina Brandt\, Director of Sustainability of the Ulster County Resource Recovery Agency\, in collaboration with Kingston Library’s monthly Sustainability Challenge. Please pre-register for this class to receive a free kit (walk-ins are also welcome).  Learn more about the challenge \nSign Up for this class! Accessibility: This event will take place indoors at the library. The facility has many ADA compliant features including accessible parking\, ramp access\, and elevator access.  Please note: the use of face masks is not required at the Library. \nWe strive to offer equal program opportunities. Educational resources in Spanish are available by request. If you require any special accommodations or have questions about this program\, please contact Angelina Brandt\, Director of Sustainability\, at APEO@UCRRA.ORG  or 845-336-0600. \nShare This Story!
URL:https://ucrra.org/event/recycle-right-kingston-library/
LOCATION:Kingston Library\, Temp. Location 61 Crown St\, Kingston\, NY
CATEGORIES:Recycle,Reduce,Reuse,Seminar,UCRRA Classes
ATTACH;FMTTYPE=image/jpeg:https://ucrra.org/wp-content/uploads/2022/07/nick-fewings-2lJGRIY5P0-unsplash-scaled.jpg
ORGANIZER;CN="UCRRA":MAILTO:apeo@ucrra.org
END:VEVENT
BEGIN:VEVENT
DTSTART;TZID=America/New_York:20221012T180000
DTEND;TZID=America/New_York:20221012T193000
DTSTAMP:20260424T031125
CREATED:20220720T151337Z
LAST-MODIFIED:20220720T151359Z
UID:5967-1665597600-1665603000@ucrra.org
SUMMARY:Recycle Right! (Wallkill Library)
DESCRIPTION:Recycle Right!\nWednesday\, October 12th\, 2022\n6:00 PM – 7:30 PM\nWallkill Public Library\n7 Bona Ventura Ave\, Wallkill\, NY 12589\nHYBRID in-person or virtual via ZOOM\nWhy can’t ALL plastics be recycled? What does the chasing arrows symbol really mean? Are pizza boxes in or out? Should you recycle that coffee cup? What about a broken drinking glass? Putting unaccepted items in the recycling bin can damage equipment\, harm workers\, create inefficiencies in the recycling process\, and reduce the value of the collected recyclables. This class will de-mystify recycling so you can be a better recycler! \nIn this class\, you will learn: How does recycling ‘work’ in Ulster County? What makes something ‘recyclable’? Why are certain items not acceptable for recyclable? What is ‘wishcycling’ and how does contamination affect recycling? And other info about UCRRA’s programs and services! \nJoin UCRRA’s Recycling Outreach Team on Wednesday\, October 12th at 6:00 PM for a hybrid event (Zoom (virtual)/In-Person) in collaboration with Wallkill Public Library. \nClass size is limited and participants must pre-register. Please RSVP by clicking the button below. \nSign Up for this Class! Share This Story!
URL:https://ucrra.org/event/recycle-right-wallkill-library/
LOCATION:Wallkill Public Library\, 7 Bona Ventura Ave\, Wallkill\, NY\, 12589\, United States
CATEGORIES:Recycle,Reduce,Reuse,Seminar,UCRRA Classes
ATTACH;FMTTYPE=image/jpeg:https://ucrra.org/wp-content/uploads/2022/07/nick-fewings-2lJGRIY5P0-unsplash-scaled.jpg
ORGANIZER;CN="UCRRA":MAILTO:apeo@ucrra.org
END:VEVENT
BEGIN:VEVENT
DTSTART;TZID=America/New_York:20210501T090000
DTEND;TZID=America/New_York:20210501T140000
DTSTAMP:20260424T031125
CREATED:20210316T144218Z
LAST-MODIFIED:20210316T144218Z
UID:3995-1619859600-1619877600@ucrra.org
SUMMARY:Spring Compost Bin & Rain Barrel Sale
DESCRIPTION:Grow\, Eat\, Compost…Repeat!\n  \nUCRRA is proud to offer a Spring Compost Bin & Rain Barrel Sale\, celebrating Compost Awareness Week! Ulster County residents will receive a FREE kitchen collection caddy with their purchase – offer valid while supplies last! We will also be distributing our new Home Composting Brochures! \n  \nPre-order your supplies\, and pick up your order at our ONE DAY PICK-UP EVENT: \nSaturday\, May 1st 2021 \n9:00 AM – 2:00 PM\nUCRRA Main Office \n999 Flatbush Road Kingston NY\n  \nPlease note: Compost bins and supplies are offered through PRE-ORDER ONLY! There will not be any extra inventory for sale on the day of the event. \n  \nCOVID-19 Safety: This is a drive-through event (stay in your vehicle). Please be advised that facemasks will be required and social distancing guidelines will be in place. \n  \nShop Now > > > \n  \nDisclaimer: UCRRA does not make any warranty or representation\, expressed or implied\, regarding the compost bins or other equipment offered for sale by BrandBuilders\, LLC.  Purchasers must direct any questions\, claims or disputes regarding their purchase to BrandBuilders LLC.
URL:https://ucrra.org/event/compost-bin-sale/
LOCATION:The Law Office of Kenneth Gilligan\, Esq.\, 111 Green Street\, Kingston\, NY\, 12401\, United States
CATEGORIES:Composting,Recycle
ORGANIZER;CN="UCRRA":MAILTO:apeo@ucrra.org
END:VEVENT
BEGIN:VEVENT
DTSTART;TZID=America/New_York:20210422T153000
DTEND;TZID=America/New_York:20210422T163000
DTSTAMP:20260424T031125
CREATED:20210323T190456Z
LAST-MODIFIED:20210323T190622Z
UID:4023-1619105400-1619109000@ucrra.org
SUMMARY:Recycle Right!
DESCRIPTION:Why can’t ALL plastics be recycled?  What does the chasing arrows symbol really mean?  Should you leave the bottle cap on or off?  Is it ok to bag my recyclables?  This class will de-mystify recycling and help you avoid being a wishful recycler! \nThis seminar is offered as a ZOOM teleconference in collaboration with Highland Public Library. Class size is limited and participants must pre-register. Join the Ulster County Resource Recovery Agency (UCRRA) recycling outreach team on Thrusday\, April 22\, at 3:30 for a virtual presentation to have these questions and many more answered.   A Zoom link will be emailed to registrants a few hours before the program. \n\nLearn more/Sign Up >>>
URL:https://ucrra.org/event/recycle-right-2/
LOCATION:NY
CATEGORIES:Recycle,Reduce,Reuse,Seminar,UCRRA Classes
ATTACH;FMTTYPE=image/jpeg:https://ucrra.org/wp-content/uploads/2020/01/sorted-recycling.jpg
ORGANIZER;CN="UCRRA":MAILTO:apeo@ucrra.org
END:VEVENT
BEGIN:VEVENT
DTSTART;TZID=America/New_York:20210407T120000
DTEND;TZID=America/New_York:20210407T133000
DTSTAMP:20260424T031125
CREATED:20210316T144837Z
LAST-MODIFIED:20210407T183209Z
UID:4000-1617796800-1617802200@ucrra.org
SUMMARY:Spring Cleaning Seminar
DESCRIPTION:GREEN-UP YOUR CLEAN-UP!\n \nSpring is here and it’s time to de-clutter and deep clean your home…but how can you do this in a more eco-friendly way? Learn what to do with “odd recyclables” and unwanted household items\, and learn how to make a few all-natural cleaning products! \nIn this class your will learn: \n\nWhat to do with unwanted household items – rethinking waste one room at a time!\nWhat is household hazardous waste\nHow to dispose of household hazardous waste safely\nWhat are eco-friendly alternatives to household hazardous waste\n…and other info about UCRRA!\n\nThis seminar is offered as a WEBEX teleconference. Class size is limited and participants must pre-register. After you’ve completed the registration form\, you’ll receive a confirmation email with instructions on how to join the meeting from your computer. If you do not receive a confirmation email check your junkmail folder or contact APEO@UCRRA.ORG  \nThis event has passed.
URL:https://ucrra.org/event/spring-cleaning-seminar/
LOCATION:Virtual via WebEx
CATEGORIES:Recycle,Reduce,Reuse,UCRRA Classes
ATTACH;FMTTYPE=image/png:https://ucrra.org/wp-content/uploads/2020/02/about-ucrra-video-poster-500x383@2x.png
ORGANIZER;CN="UCRRA":MAILTO:apeo@ucrra.org
END:VEVENT
BEGIN:VEVENT
DTSTART;TZID=America/New_York:20201207T100000
DTEND;TZID=America/New_York:20201207T110000
DTSTAMP:20260424T031125
CREATED:20201109T131642Z
LAST-MODIFIED:20201109T132901Z
UID:3457-1607335200-1607338800@ucrra.org
SUMMARY:MRDC Informational Recycling Meeting
DESCRIPTION:The UCRRA Recycling Outreach Team is hosting an Informational Recycling Meeting for Town Supervisors\, Mayors\, and Municipal Recycling Drop-Off Center (MRDC) Operators. \nThis meeting is closed to the general public. \nThese meetings are beneficial to local municipalities to address recycling questions and learn about the services the Recycling Outreach Team has to offer\, as well as opportunities to network and share updates from other local Municipal Recycling Drop Off Centers. \nPlease note: Participants must pre-register. After you’ve completed the registration form and your invitation has been verified\, you’ll receive a confirmation email with instructions on how to join the meeting from your computer. If you do not receive a confirmation email\, check your junkmail folder or  please contact us for assistance. \nRegister Now > > > \n 
URL:https://ucrra.org/event/mrdc-biannual-meeting/
LOCATION:Virtual via WebEx
CATEGORIES:Recycle
ATTACH;FMTTYPE=image/jpeg:https://ucrra.org/wp-content/uploads/2020/06/class-chairs.jpg
ORGANIZER;CN="UCRRA":MAILTO:apeo@ucrra.org
END:VEVENT
BEGIN:VEVENT
DTSTART;TZID=America/New_York:20201116T160000
DTEND;TZID=America/New_York:20201116T170000
DTSTAMP:20260424T031125
CREATED:20200902T162940Z
LAST-MODIFIED:20201112T162219Z
UID:3430-1605542400-1605546000@ucrra.org
SUMMARY:Recycle Right!
DESCRIPTION:Why can’t ALL plastics be recycled? What does the chasing arrows symbol really mean? Are pizza boxes in or out? Should you leave that bottle cap on or off? Putting unaccepted items in the recycling bin can damage equipment\, harm workers\, create inefficiencies in the recycling process\, and reduce the value of the acceptable recyclables! This class will de-mystify recycling and help you avoid being a wishful recycler! \n\n\n\nIn this class\, you will learn:\n\n\n\nWhy is recycling important?\nWhat makes something ‘recyclable’?\nHow does recycling ‘work’ in Ulster County?\nWhy does recycling seem to be so confusing?\nWhy are certain items not recyclable?\nWhat is ‘wishcycling’ and how does contamination affect recycling?\nAnd other info about UCRRA and our educational programs and services!\n\n\n\n\n\n\nThis seminar is offered as a WEBEX teleconference. Class size is limited and participants must pre-register. After you’ve completed the registration form\, you’ll receive a confirmation email with instructions on how to join the meeting from your computer. If you do not receive a confirmation email check your junkmail folder or contact APEO@UCRRA.ORG  \nThis class has reached capacity!
URL:https://ucrra.org/event/recycle-right/
LOCATION:Virtual via WebEx
CATEGORIES:Recycle,Reduce,Reuse,Seminar,UCRRA Classes
ATTACH;FMTTYPE=image/jpeg:https://ucrra.org/wp-content/uploads/2020/01/sorted-recycling.jpg
ORGANIZER;CN="UCRRA":MAILTO:apeo@ucrra.org
END:VEVENT
BEGIN:VEVENT
DTSTART;TZID=America/New_York:20201027T120000
DTEND;TZID=America/New_York:20201027T133000
DTSTAMP:20260424T031125
CREATED:20200902T145427Z
LAST-MODIFIED:20201026T150319Z
UID:3426-1603800000-1603805400@ucrra.org
SUMMARY:Rethinking Our Waste
DESCRIPTION:Ever wonder what happens to your garbage\, and what you can do to make a difference? This class will introduce you to the 7R’s that go beyond recycling! Our educators will share ideas to simplify your life and save money by reducing waste! The second half of this class will demonstrate how to incorporate the 7R’s into your holiday celebrations. \nIn this class\, you will learn:\n\n\n\nWhat happens to our waste in Ulster County?\nHow does our waste contribute to pollution?\nWhat is ‘zero waste‘ and how can it help your family save money\, time\, and simplify your life?\nWhat are the 7 R’s to Rethink Waste?\nTips to de-clutter your home (in a more eco-friendly way)\nHow to incorporate the 7R’s into every day life – and for the upcoming holiday season?\nAnd other info about UCRRA and our educational programs and services!\n\n\n\nThis seminar is offered as a WEBEX teleconference. Class size is limited and participants must pre-register. After you’ve completed the registration form\, you’ll receive a confirmation email with instructions on how to join the meeting from your computer. If you do not receive a confirmation email check your junkmail folder or contact APEO@UCRRA.ORG  \nThis class is full!
URL:https://ucrra.org/event/rethinking-our-waste-seminar/
LOCATION:Virtual via WebEx
CATEGORIES:Recycle,Reduce,Reuse,Seminar,UCRRA Classes
ATTACH;FMTTYPE=image/png:https://ucrra.org/wp-content/uploads/2014/04/dl-fb1cbd-e1599060880470.png
ORGANIZER;CN="UCRRA":MAILTO:apeo@ucrra.org
END:VEVENT
BEGIN:VEVENT
DTSTART;TZID=America/New_York:20200326T180000
DTEND;TZID=America/New_York:20200326T193000
DTSTAMP:20260424T031125
CREATED:20200205T185239Z
LAST-MODIFIED:20200214T203440Z
UID:927-1585245600-1585251000@ucrra.org
SUMMARY:Spring Cleaning!
DESCRIPTION:Green-up your Spring clean-up! Lean what to do with ‘odd recyclables’ – items that can be recycled\, but do not go in the recycling bin. This FREE class will cover what to do with your unwanted items\, including information about household hazardous wastes and safer alternatives to cleaning chemicals. \nWe’re sorry\, but this class is currently full!
URL:https://ucrra.org/event/spring-cleaning/
LOCATION:NY
CATEGORIES:Recycle,Reduce,Reuse,UCRRA Classes
ATTACH;FMTTYPE=image/jpeg:https://ucrra.org/wp-content/uploads/2020/02/recycle-only.jpg
ORGANIZER;CN="UCRRA":MAILTO:apeo@ucrra.org
END:VEVENT
END:VCALENDAR